BEGIN:VCALENDAR
VERSION:2.0
PRODID:-//ChamberMaster//Event Calendar 2.0//EN
METHOD:PUBLISH
X-PUBLISHED-TTL:P3D
REFRESH-INTERVAL:P3D
CALSCALE:GREGORIAN
BEGIN:VEVENT
DTSTART:20061114T174500Z
DTEND:20061114T191500Z
X-MICROSOFT-CDO-ALLDAYEVENT:FALSE
SUMMARY:Monthly Luncheon: Making Your Website More Productive
DESCRIPTION:With 70 percent of consumers turning to the Internet to research businesses\, your website can either benefit or challenge your business.  Hosting this  month's Lunch and Learn program\, experts from the Chamber's Technology Group will help you determine how well your website stacks up.  The panel discussion will porovide partricipants with ideas of how to use the Internet to research the competition\, conduct low cost\, productive e-mail marketing\, and how to utilize the latest technolgoy video e-mail.  Other topics to be discussed include the importance of integrating your website with all of your marketing efforts.  The program will be led by panelists Alan Wallis\, WSI Internet Marketing\; Earle Greenberg\, Chicago Videoworks\; and Donald Bloom\, Donald Bloom and Associates.  Call the Chamber office to reserve your attendance at (847)498-5555 ext. 203\,
X-ALT-DESC;FMTTYPE=text/html:With 70 percent of consumers turning to the Internet to research businesses\, your website can either benefit or challenge your business.  Hosting this  month's Lunch and Learn program\, experts from the Chamber's Technology Group will help you determine how well your website stacks up.  The panel discussion will porovide partricipants with ideas of how to use the Internet to research the competition\, conduct low cost\, productive e-mail marketing\, and how to utilize the latest technolgoy video e-mail.  Other topics to be discussed include the importance of integrating your website with all of your marketing efforts.  The program will be led by panelists Alan Wallis\, WSI Internet Marketing\; Earle Greenberg\, Chicago Videoworks\; and Donald Bloom\, Donald Bloom and Associates.  Call the Chamber office to reserve your attendance at (847)498-5555 ext. 203\,\n
LOCATION:
UID:e.355.226
SEQUENCE:3
DTSTAMP:20260425T195232Z
URL:https://business.northbrookchamber.org/events/details/monthly-luncheon-making-your-website-more-productive-11-14-2006-226
END:VEVENT

END:VCALENDAR
