BEGIN:VCALENDAR
VERSION:2.0
PRODID:-//ChamberMaster//Event Calendar 2.0//EN
METHOD:PUBLISH
X-PUBLISHED-TTL:P3D
REFRESH-INTERVAL:P3D
CALSCALE:GREGORIAN
BEGIN:VEVENT
DTSTART:20070625T164500Z
DTEND:20070625T183000Z
X-MICROSOFT-CDO-ALLDAYEVENT:FALSE
SUMMARY:Monthly Luncheon: June 2007 Legislative Lunch
DESCRIPTION:Four of Northbrook's legislative representatives will share their perspectives on the recent legislative session at a special wrap-up luncheon.  Featured speakers will include Illinois State Senators Susan Garrett (D-29)and Jeffrey Schoenberg (D-5) along with state Representatives Karen May (D-48) and Elaine Nekritz (D-57).     The legislators will review the highlights and challenges of the session\, summarizing legislative initiatives they have sponsored.  Among the topics the speakers will address will be the recently proposed gross receipts tax\, education reform\, the proposed payroll tax to fund healthcare for the uninsured and other matters of interest to local businesses.  There will be plenty of time for questions and answers.
X-ALT-DESC;FMTTYPE=text/html:Four of Northbrook's legislative representatives will share their perspectives on the recent legislative session at a special wrap-up luncheon.  Featured speakers will include Illinois State Senators Susan Garrett (D-29)and Jeffrey Schoenberg (D-5) along with state Representatives Karen May (D-48) and Elaine Nekritz (D-57).     The legislators will review the highlights and challenges of the session\, summarizing legislative initiatives they have sponsored.  Among the topics the speakers will address will be the recently proposed gross receipts tax\, education reform\, the proposed payroll tax to fund healthcare for the uninsured and other matters of interest to local businesses.  There will be plenty of time for questions and answers.
LOCATION:
UID:e.355.261
SEQUENCE:3
DTSTAMP:20260425T111642Z
URL:https://business.northbrookchamber.org/events/details/monthly-luncheon-june-2007-legislative-lunch-06-25-2007-261
END:VEVENT

END:VCALENDAR
