BEGIN:VCALENDAR
VERSION:2.0
PRODID:-//ChamberMaster//Event Calendar 2.0//EN
METHOD:PUBLISH
X-PUBLISHED-TTL:P3D
REFRESH-INTERVAL:P3D
CALSCALE:GREGORIAN
BEGIN:VEVENT
DTSTART:20070418T164500Z
DTEND:20070418T181500Z
X-MICROSOFT-CDO-ALLDAYEVENT:FALSE
SUMMARY:Monthly Luncheon: April 2007 Lunch - Using Reference USA
DESCRIPTION:This program will give participants an opportunity to learn how to tap into Reference USA\, an enormous source of business and consumer information.  The program will be conducted in the Library's computer lab in order to provide attendees with a hands-on demonstration of how to use this powerful market research tool that can help business owners of all types and sizes.  Reference USA is an Internet-based database containing information on more than 13 million U.S. businesses.  Attendees will learn how to search by name\, geographic area\, company size\, sales volume\, Yellow Page heading\, zip code\, area code or other criteria.  They also will learn how to download the data once the search is completed.  $10 payable at the door\; includes catered lunch.  Call  (847) 498-5555 ext. 201.
X-ALT-DESC;FMTTYPE=text/html:This program will give participants an opportunity to learn how to tap into Reference USA\, an enormous source of business and consumer information.  The program will be conducted in the Library's computer lab in order to provide attendees with a hands-on demonstration of how to use this powerful market research tool that can help business owners of all types and sizes.  Reference USA is an Internet-based database containing information on more than 13 million U.S. businesses.  Attendees will learn how to search by name\, geographic area\, company size\, sales volume\, Yellow Page heading\, zip code\, area code or other criteria.  They also will learn how to download the data once the search is completed.  $10 payable at the door\; includes catered lunch.  Call  (847) 498-5555 ext. 201.
LOCATION:
UID:e.355.245
SEQUENCE:3
DTSTAMP:20260425T134002Z
URL:https://business.northbrookchamber.org/events/details/monthly-luncheon-april-2007-lunch-using-reference-usa-04-18-2007-245
END:VEVENT

END:VCALENDAR
