BEGIN:VCALENDAR
VERSION:2.0
PRODID:-//ChamberMaster//Event Calendar 2.0//EN
METHOD:PUBLISH
X-PUBLISHED-TTL:P3D
REFRESH-INTERVAL:P3D
CALSCALE:GREGORIAN
BEGIN:VEVENT
DTSTART:20090226T054500Z
DTEND:20090225T191500Z
X-MICROSOFT-CDO-ALLDAYEVENT:FALSE
SUMMARY:Media & Public Relations Strategies for Small Businesses
DESCRIPTION:We all know that our businesses need publicity to grow. But in these challenging economic times\, it might be difficult to part with money for anything but the essentials. Former Executive FOX News Producer and now public and media relations consultant Elizabeth Ciesla will tell you how you can get your business noticed and run your own P.R. campaign without dishing out major dollars.She'll give you tips on how to:Determine what your company needs from a P.R. campaignThe importance of a web site and using it correctlyWrite your own press releaseDevelop your own media contact relationshipsKnow that timing is everythingSet aside time for your P.R. campaignThere will also be plenty of time for questions and answers.
X-ALT-DESC;FMTTYPE=text/html:<div><font size="2"><p align="justify">We all know that our businesses need publicity to grow. But in these challenging economic times\, it might be difficult to part with money for anything but the essentials. Former Executive FOX News Producer and now public and media relations consultant Elizabeth Ciesla will tell you how you can get your business noticed and run your own P.R. campaign without dishing out major dollars.</p><p align="justify">She&rsquo\;ll give you tips on how to:</p><dir><p align="justify">Determine what your company needs from a P.R. campaign</p><p align="justify">The importance of a web site and using it correctly</p><p align="justify">Write your own press release</p><p align="justify">Develop your own media contact relationships</p><p align="justify">Know that timing is everything</p><p align="justify">Set aside time for your P.R. campaign</p></dir><p align="justify">There will also be plenty of time for questions and answers.</p></font></div>
LOCATION:Chamber Office 2002 Walters Avenue
UID:e.355.773
SEQUENCE:3
DTSTAMP:20260424T113030Z
URL:https://business.northbrookchamber.org/events/details/media-public-relations-strategies-for-small-businesses-02-25-2009-773
END:VEVENT

END:VCALENDAR
