BEGIN:VCALENDAR
VERSION:2.0
PRODID:-//ChamberMaster//Event Calendar 2.0//EN
METHOD:PUBLISH
X-PUBLISHED-TTL:P3D
REFRESH-INTERVAL:P3D
CALSCALE:GREGORIAN
BEGIN:VEVENT
DTSTART:20070619T164500Z
DTEND:20070619T181500Z
X-MICROSOFT-CDO-ALLDAYEVENT:FALSE
SUMMARY:Making the Most of Trade Shows: Making the Most of Trade Shows - 2007
DESCRIPTION:Learn how to maximize your opportunities at the Chamber's Business Expo (or any trade show) at this informative seminar\, presented by John Martin\, Total Selling Solutions.
X-ALT-DESC;FMTTYPE=text/html:Learn how to maximize your opportunities at the Chamber's Business Expo (or any trade show) at this informative seminar\, presented by John Martin\, Total Selling Solutions.
LOCATION:
UID:e.355.263
SEQUENCE:3
DTSTAMP:20260425T112537Z
URL:https://business.northbrookchamber.org/events/details/making-the-most-of-trade-shows-making-the-most-of-trade-shows-2007-06-19-2007-263
END:VEVENT

END:VCALENDAR
