BEGIN:VCALENDAR
VERSION:2.0
PRODID:-//ChamberMaster//Event Calendar 2.0//EN
METHOD:PUBLISH
X-PUBLISHED-TTL:P3D
REFRESH-INTERVAL:P3D
CALSCALE:GREGORIAN
BEGIN:VEVENT
DTSTART:20090924T044500Z
DTEND:20090923T181500Z
X-MICROSOFT-CDO-ALLDAYEVENT:FALSE
SUMMARY:Lunch & Learn - P. R. Tips from Local Newspapers
DESCRIPTION:When promoting your business\, it's important to remember that outstanding public relations opportunities exist right here in Northbrook. At this informative program\, representatives from the three Northbrook publications\, the Northbrook Star\, Triblocal (part of the Chicago Tribune) and What's Happening! Newspaper will give pointers and suggestions on how to place information in their print and on-line publications. The tips will include guidelines on the type of news covered\, basic information to include in a press release\, publication deadlines\, and how to target your news to the different editions. There will be brief presentations from each publication with plenty of time for questions and answers.
X-ALT-DESC;FMTTYPE=text/html:<div><span lang="EN"><p align="justify"><span style="font-size: small"><span style="font-family: Arial">When promoting your business\, it&rsquo\;s important to remember that outstanding public relations opportunities exist right here in Northbrook. At this informative program\, representatives from the three Northbrook publications\, the Northbrook Star\, Triblocal (part of the Chicago Tribune) and What&rsquo\;s Happening! Newspaper will give pointers and suggestions on how to place information in their print and on-line publications. The tips will include guidelines on the type of news covered\, basic information to include in a press release\, publication deadlines\, and how to target your news to the different editions. There will be brief presentations from each publication with plenty of time for questions and answers.</span></span></p></span></div>
LOCATION:Chamber Office2002 Walters Ave.
UID:e.355.1239
SEQUENCE:3
DTSTAMP:20260422T170432Z
URL:https://business.northbrookchamber.org/events/details/lunch-learn-p-r-tips-from-local-newspapers-09-23-2009-1239
END:VEVENT

END:VCALENDAR
