BEGIN:VCALENDAR
VERSION:2.0
PRODID:-//ChamberMaster//Event Calendar 2.0//EN
METHOD:PUBLISH
X-PUBLISHED-TTL:P3D
REFRESH-INTERVAL:P3D
CALSCALE:GREGORIAN
BEGIN:VEVENT
DTSTART:20080827T164500Z
DTEND:20080827T181500Z
X-MICROSOFT-CDO-ALLDAYEVENT:FALSE
SUMMARY:Lunch & Learn - Getting Started with Constant Contact
DESCRIPTION:Lunch & Learn ProgramGetting Started With Constant ContactWednesday\, August 27Chamber Office11:45 a.m.   1:15 p.m.$15 advance\, $20 at the door.One thing all businesses have in common is the need to maintain and build long-term relationships with their customers.  Small businesses\, nonprofits\, associations and others who want to learn how to build lasting relationships with their customers\, clients\, prospects or members using the e-mail marketing software Constant Contact will not want to miss this program.  During this one hour seminar participants will learn how to:create affordable professional looking e-mail campaigns          Set up your account to get the most from the programs features          Build and manage contacts          Upload and manage contacts          Customize your email with your company colors\, logos\, images and text During this program\, Constant Contact's Regional Director Steve Robinson\, will conduct a live product demonstration.  He will show how easy it is to use the program and answer specific product questions.  He will build an email newsletter\, demonstrate product features\, upload contacts and review the report feature while also giving other tips and tricks.  Participants will learn how to analyze the results to better promote their businesses\, and will walk away from this program ready to create highly branded\, professional e-mails.  In addition to his experience as a consultant for Constant Contact\, Robinson\, has over 25 years experience in business development\, sales\, marketing\, and fundraising.
X-ALT-DESC;FMTTYPE=text/html:<div style="margin: 0in 0in 0pt"><strong>Lunch &amp\; Learn Program</strong></div><div style="margin: 0in 0in 0pt"><strong>Getting Started With Constant Contact</strong></div><div style="margin: 0in 0in 0pt"><strong>Wednesday\, August 27</strong></div><div style="margin: 0in 0in 0pt"><strong>Chamber Office</strong></div><div style="margin: 0in 0in 0pt"><strong>11:45 a.m. &ndash\; 1:15 p.m.</strong></div><div style="margin: 0in 0in 0pt">$15 advance\, $20 at the door.</div><div style="margin: 0in 0in 0pt">One thing all businesses have in common is the need to maintain and build long-term relationships with their customers.&nbsp\; Small businesses\, nonprofits\, associations and others who want to learn how to build lasting relationships with their customers\, clients\, prospects or members using the e-mail marketing software Constant Contact will not want to miss this program.&nbsp\;</div><div style="margin: 0in 0in 0pt">&nbsp\;</div><div style="margin: 0in 0in 0pt">During this one hour seminar participants will learn how to:</div><div style="margin: 0in 0in 0pt 0.75in">create affordable professional looking e-mail campaigns</div><div style="margin: 0in 0in 0pt 0.75in\; text-indent: -0.25in"><span>&middot\;<span style="font: 7pt 'Times New Roman'">&nbsp\;&nbsp\;&nbsp\;&nbsp\;&nbsp\;&nbsp\;&nbsp\;&nbsp\; </span></span>Set up your account to get the most from the programs features</div><div style="margin: 0in 0in 0pt 0.75in\; text-indent: -0.25in"><span>&middot\;<span style="font: 7pt 'Times New Roman'">&nbsp\;&nbsp\;&nbsp\;&nbsp\;&nbsp\;&nbsp\;&nbsp\;&nbsp\; </span></span>Build and manage contacts</div><div style="margin: 0in 0in 0pt 0.75in\; text-indent: -0.25in"><span>&middot\;<span style="font: 7pt 'Times New Roman'">&nbsp\;&nbsp\;&nbsp\;&nbsp\;&nbsp\;&nbsp\;&nbsp\;&nbsp\; </span></span>Upload and manage contacts</div><div style="margin: 0in 0in 0pt 0.75in\; text-indent: -0.25in"><span>&middot\;<span style="font: 7pt 'Times New Roman'">&nbsp\;&nbsp\;&nbsp\;&nbsp\;&nbsp\;&nbsp\;&nbsp\;&nbsp\; </span></span>Customize your email with your company colors\, logos\, images and text</div><div style="margin: 0in 0in 0pt">&nbsp\;</div><div style="margin: 0in 0in 0pt"><span style="font-size: 10pt">During this program\, Constant Contact&rsquo\;s Regional Director Steve Robinson\, will conduct a live product demonstration.&nbsp\; He will show how easy it is to use the program and answer specific product questions.&nbsp\; He will build an email newsletter\, demonstrate product features\, upload contacts and review the report feature while also giving other tips and tricks.&nbsp\; </span>Participants will learn how to analyze the results to better promote their businesses\, and will walk away from this program ready to create highly branded\, professional e-mails.&nbsp\; In addition to his experience as a consultant for Constant Contact\, Robinson\, has over 25 years experience in business development\, sales\, marketing\, and fundraising.</div>
LOCATION:Chamber Office2002 Walters Avenue
UID:e.355.744
SEQUENCE:3
DTSTAMP:20260424T185951Z
URL:https://business.northbrookchamber.org/events/details/lunch-learn-getting-started-with-constant-contact-08-27-2008-744
END:VEVENT

END:VCALENDAR
