BEGIN:VCALENDAR
VERSION:2.0
PRODID:-//ChamberMaster//Event Calendar 2.0//EN
METHOD:PUBLISH
X-PUBLISHED-TTL:P3D
REFRESH-INTERVAL:P3D
CALSCALE:GREGORIAN
BEGIN:VEVENT
DTSTART:20080730T164500Z
DTEND:20080730T181500Z
X-MICROSOFT-CDO-ALLDAYEVENT:FALSE
SUMMARY:Lunch & Learn -- Direct Mail Marketing
DESCRIPTION:Direct Mail Marketing OptionsFeaturing Northbrook Postmaster Ronald Weddington and Iris Marreck\, Iris B CommunicationsWednesday July 3011:45   1:15 p.m.Chamber office $15 in advance/$20 at the doorHave you ever considered a Direct Mail campaign but didn't know where to begin? Is your business even suited to direct mail marketing? How do you decide whether to purchase lists for a direct mail campaign? At this lunch program you will get answers to these questions as well as practical advice on what parameters to set for your business marketing campaign\, how to look at the demographics and how to narrow your search.   You will also receive practical advice from Northbrook's postmaster on the variety of services and new features available to businesses\, including online resources. Presenters will bring plenty of examples of direct mail pieces from successful campaigns.
X-ALT-DESC;FMTTYPE=text/html:<div style="margin: 0in 0in 0pt"><strong>Direct Mail Marketing Options</strong></div><div style="margin: 0in 0in 0pt"><strong>Featuring Northbrook Postmaster Ronald Weddington</strong></div><div style="margin: 0in 0in 0pt"><strong>&nbsp\;and Iris Marreck\, Iris B Communications</strong></div><div style="margin: 0in 0in 0pt"><strong>Wednesday July 30</strong></div><div style="margin: 0in 0in 0pt"><strong>11:45 &ndash\; 1:15 p.m.</strong></div><div style="margin: 0in 0in 0pt"><strong>Chamber office</strong></div><div style="margin: 0in 0in 0pt"><strong>&nbsp\;$15 in advance/$20 at the door</strong></div><div style="margin: 0in 0in 0pt">Have you ever considered a Direct Mail campaign but didn&rsquo\;t know where to begin?&nbsp\;Is your business even suited to direct mail marketing?&nbsp\;How do you decide whether to purchase lists for a direct mail campaign?&nbsp\;At this lunch program you will get answers to these questions as well as practical advice on what parameters to set for your business marketing campaign\, how to look at the demographics and how to narrow your search.&nbsp\;&nbsp\; You will also receive practical advice from Northbrook&rsquo\;s postmaster on the variety of services and new features available to businesses\, including online resources.&nbsp\;Presenters will bring plenty of examples of direct mail pieces from successful campaigns.&nbsp\;&nbsp\;&nbsp\;</div>
LOCATION:2002 Walters AvenueNorthbrook\, IL 60062
UID:e.355.738
SEQUENCE:3
DTSTAMP:20260424T195919Z
URL:https://business.northbrookchamber.org/events/details/lunch-learn-direct-mail-marketing-07-30-2008-738
END:VEVENT

END:VCALENDAR
