BEGIN:VCALENDAR
VERSION:2.0
PRODID:-//ChamberMaster//Event Calendar 2.0//EN
METHOD:PUBLISH
X-PUBLISHED-TTL:P3D
REFRESH-INTERVAL:P3D
CALSCALE:GREGORIAN
BEGIN:VEVENT
DTSTART:20090827T040000Z
DTEND:20090826T180000Z
X-MICROSOFT-CDO-ALLDAYEVENT:FALSE
SUMMARY:Lunch & Learn - Constant Contact
DESCRIPTION:Getting Started With Constant Contact presented by Steve RobinsonOne thing all businesses have in common is the need to maintain and build long-term relationships with their customers. More than 250\,000 business use constant Contact to help grow their repeat and referral business. This informative program will help participants create and enhance their first e-mail marketing campaigns by providing tips and techniques to guide them through the Constant Contact program. The product demonstration will walk you through the features and tools of the program so that you can learn how to:Set up account optionsBuild and manage your clientsCreate great looking e-mailsBrand your e-mails to match your websiteWork with imagesAnalyze e-mail reports to maximize resultsLed by Illinois Constant Contact Regional Director Steve Robinson\, participants will learn how to analyze the results to better promote their businesses\, and will walk away from this program ready to create highly branded\, professional e-mails. In addition to his experience as a consultant for Constant Contact\, Robinson\, has over 26 years experience in business development\, sales\, marketing\, and fundraising.
X-ALT-DESC;FMTTYPE=text/html:<div><span lang="EN"><p align="left"><span style="font-size: small"><strong><span style="font-family: Arial">Getting Started With Constant Contact</span></strong><span style="font-family: Arial"> </span><em><span style="font-family: Arial">presented by Steve Robinson</span></em></span></p><p align="left"><span style="font-size: small"><span style="font-family: Arial">One thing all businesses have in common is the need to maintain and build long-term relationships with their customers. More than 250\,000 business use constant Contact to help grow their repeat and referral business. This informative program will help participants create and enhance their first e-mail marketing campaigns by providing tips and techniques to guide them through the Constant Contact program. The product demonstration will walk you through the features and tools of the program so that you can learn how to:</span></span></p><dir><p align="justify"><span style="font-size: small"><span style="font-family: Arial">Set up account options</span></span></p><p align="justify"><span style="font-size: small"><span style="font-family: Arial">Build and manage your clients</span></span></p><p align="justify"><span style="font-size: small"><span style="font-family: Arial">Create great looking e-mails</span></span></p><p align="justify"><span style="font-size: small"><span style="font-family: Arial">Brand your e-mails to match your website</span></span></p><p align="justify"><span style="font-size: small"><span style="font-family: Arial">Work with images</span></span></p><p align="justify"><span style="font-size: small"><span style="font-family: Arial">Analyze e-mail reports to maximize results</span></span></p></dir><p align="justify"><span style="font-size: small"><span style="font-family: Arial">Led by Illinois Constant Contact Regional Director Steve Robinson\, participants will learn how to analyze the results to better promote their businesses\, and will walk away from this program ready to create highly branded\, professional e-mails. In addition to his experience as a consultant for Constant Contact\, Robinson\, has over 26 years experience in business development\, sales\, marketing\, and fundraising.</span></span></p></span></div>
LOCATION:Chamber Office2002 Walters Ave.
UID:e.355.1231
SEQUENCE:3
DTSTAMP:20260422T182051Z
URL:https://business.northbrookchamber.org/events/details/lunch-learn-constant-contact-08-26-2009-1231
END:VEVENT

END:VCALENDAR
