BEGIN:VCALENDAR
VERSION:2.0
PRODID:-//ChamberMaster//Event Calendar 2.0//EN
METHOD:PUBLISH
X-PUBLISHED-TTL:P3D
REFRESH-INTERVAL:P3D
CALSCALE:GREGORIAN
BEGIN:VEVENT
DTSTART:20080319T164500Z
DTEND:20080319T181500Z
X-MICROSOFT-CDO-ALLDAYEVENT:FALSE
SUMMARY:Lunch & Learn- Constant Contact
DESCRIPTION:Anyone interested in learning how e-mail marketing can help their business grow is encouraged to attend this presentation to learn how to create professional looking e-mails with the Constant Contact permission-based e-mail marketing program. The program offers an effective\, affordable and easy to use e-mail marketing option to enhance your small business image and communicate with your customers and prospects. Topics covered during the presentation include: a definition of e-mail marketing\, list building\, tips on getting your e-mails opened\, best practices in e-mail marketing\; tracking results\, what to do with the information and more.
X-ALT-DESC;FMTTYPE=text/html:<div><font size="2"><p align="justify">Anyone interested in learning how e-mail marketing can help their business grow is encouraged to attend this presentation to learn how to create professional looking e-mails with the Constant Contact permission-based e-mail marketing program. The program offers an effective\, affordable and easy to use e-mail marketing option to enhance your small business image and communicate with your customers and prospects. Topics covered during the presentation include: a definition of e-mail marketing\, list building\, tips on getting your e-mails opened\, best practices in e-mail marketing\; tracking results\, what to do with the information and more.</p></font></div>
LOCATION:Lunch & LearnConstant Contact- 7 Keys to Email Marketing-Presented by Steve Robinson
UID:e.355.653
SEQUENCE:3
DTSTAMP:20260425T002916Z
URL:https://business.northbrookchamber.org/events/details/lunch-learn-constant-contact-03-19-2008-653
END:VEVENT

END:VCALENDAR
