BEGIN:VCALENDAR
VERSION:2.0
PRODID:-//ChamberMaster//Event Calendar 2.0//EN
METHOD:PUBLISH
X-PUBLISHED-TTL:P3D
REFRESH-INTERVAL:P3D
CALSCALE:GREGORIAN
BEGIN:VEVENT
DTSTART:20100324T164500Z
DTEND:20100324T181500Z
X-MICROSOFT-CDO-ALLDAYEVENT:FALSE
SUMMARY:Lunch & Learn - CANCELLED
DESCRIPTION:Small business owners and entrepreneurs don't always have the time to keep up with the latest tax laws. At this informative program\, two experts will explain how businesses can focus on cash management\, the importance of planning and projecting results\, and analyzing actual results against their financial plans. Robert Engstrom\, CPA and owner of a firm specializing in tax and investment advice for medium to small sized businesses will address:Defined Contribution PlansExpiring Tax CreditsConversions to Roth IRAIRA based plansSCORE counselor Bob Paul\, retired John Deere VP\, with expertise in business and strategic planning will speak on:How Income Statements and Balance Sheets can help you understand and manage your businessThe importance of planning and projecting resultsEvaluating Business RisksHow to analyze results against your financial planTo make a reservation for this informative program\, please call the Chamber at (847)498-5555.This is the second in a three part "Best Practices" lunch series designed to give small businesses and entrepreneurs the tools they need to run their businesses more productively. The program is presented in partnership with SCORE.
X-ALT-DESC;FMTTYPE=text/html:<div><span lang="EN"><p align="justify"><span style="font-size: small"><span style="font-family: Arial">Small business owners and entrepreneurs don&rsquo\;t always have the time to keep up with the latest tax laws. At this informative program\, two experts will explain how businesses can focus on cash management\, the importance of planning and projecting results\, and analyzing actual results against their financial plans. Robert Engstrom\, CPA and owner of a firm specializing in tax and investment advice for medium to small sized businesses will address:</span></span></p><dir><p align="justify"><span style="font-size: small"><span style="font-family: Arial">Defined Contribution Plans</span></span></p><p align="justify"><span style="font-size: small"><span style="font-family: Arial">Expiring Tax Credits</span></span></p><p align="justify"><span style="font-size: small"><span style="font-family: Arial">Conversions to Roth IRA</span></span></p><p align="justify"><span style="font-size: small"><span style="font-family: Arial">IRA based plans</span></span></p></dir><p align="justify"><span style="font-size: small"><span style="font-family: Arial">SCORE counselor Bob Paul\, retired John Deere VP\, with expertise in business and strategic planning will speak on:</span></span></p><dir><p align="justify"><span style="font-size: small"><span style="font-family: Arial">How Income Statements and Balance Sheets can help you understand and manage your business</span></span></p><p align="justify"><span style="font-size: small"><span style="font-family: Arial">The importance of planning and projecting results</span></span></p><p align="justify"><span style="font-size: small"><span style="font-family: Arial">Evaluating Business Risks</span></span></p><p align="justify"><span style="font-size: small"><span style="font-family: Arial">How to analyze results against your financial plan</span></span></p></dir><p align="justify"><span style="font-size: small"><span style="font-family: Arial">To make a reservation for this informative program\, please call the Chamber at (847)498-5555.</span></span></p><span style="font-family: Arial"><i><p><span style="font-size: small">This is the second in a three part &quot\;Best Practices&quot\; lunch series designed to give small businesses and entrepreneurs the tools they need to run their businesses more productively. The program is presented in partnership with SCORE. </span></p></i></span><i><p><span id="1266515741888E" style="display: none">&nbsp\;</span></p></i></span></div>
LOCATION:Chamber office2002 Walters Ave.
UID:e.355.1267
SEQUENCE:3
DTSTAMP:20260420T081745Z
URL:https://business.northbrookchamber.org/events/details/lunch-learn-cancelled-03-24-2010-1267
END:VEVENT

END:VCALENDAR
