BEGIN:VCALENDAR
VERSION:2.0
PRODID:-//ChamberMaster//Event Calendar 2.0//EN
METHOD:PUBLISH
X-PUBLISHED-TTL:P3D
REFRESH-INTERVAL:P3D
CALSCALE:GREGORIAN
BEGIN:VEVENT
DTSTART:20080630T164500Z
DTEND:20080630T181500Z
X-MICROSOFT-CDO-ALLDAYEVENT:FALSE
SUMMARY:Lunch and Learn -- Direct Mail Marketing
DESCRIPTION:If you have ever considered a direct mail marketing campaign but didn't know where to begin\, this informative lunch program will get you started.  Northbrook Postmaster Ronald Weddington and marketing communications professional Iris Marreck\, Iris B Communications\, will help participants learn if their business is suited to direct mail marketing\, determine whether they should purchase lists for a mail campaign and give practical advice on parameters to set for their marketing.  There will be plenty of examaples of diret mail pieces from other successful campaigns.
X-ALT-DESC;FMTTYPE=text/html:<div>If you have ever considered a direct mail marketing campaign but didn't know where to begin\, this informative lunch program will get you started.&nbsp\; Northbrook Postmaster Ronald Weddington and marketing communications professional Iris Marreck\, Iris B Communications\, will help participants learn if their business is suited to direct mail marketing\, determine whether they should purchase lists for a mail campaign and give practical advice on parameters to set for their marketing.&nbsp\; There will be plenty of examaples of diret mail pieces from other successful campaigns.&nbsp\;</div>
LOCATION:Northbrook Chamber office2002 Walters Ave.
UID:e.355.734
SEQUENCE:3
DTSTAMP:20260424T220853Z
URL:https://business.northbrookchamber.org/events/details/lunch-and-learn-direct-mail-marketing-06-30-2008-734
END:VEVENT

END:VCALENDAR
