BEGIN:VCALENDAR
VERSION:2.0
PRODID:-//ChamberMaster//Event Calendar 2.0//EN
METHOD:PUBLISH
X-PUBLISHED-TTL:P3D
REFRESH-INTERVAL:P3D
CALSCALE:GREGORIAN
BEGIN:VEVENT
DTSTART:20260213T140000Z
DTEND:20260213T180000Z
X-MICROSOFT-CDO-ALLDAYEVENT:FALSE
SUMMARY:Leadership Northbrook
DESCRIPTION:Essential Services\n\nFire Department\n\nWater Filtration Plant
X-ALT-DESC;FMTTYPE=text/html:<span style="font-size:22px\;"><strong>Essential Services</strong></span><br />\nFire Department<br />\nWater Filtration Plant
LOCATION:
UID:e.355.4867
SEQUENCE:3
DTSTAMP:20260424T163326Z
URL:https://business.northbrookchamber.org/events/details/leadership-northbrook-4867
END:VEVENT

END:VCALENDAR
