BEGIN:VCALENDAR
VERSION:2.0
PRODID:-//ChamberMaster//Event Calendar 2.0//EN
METHOD:PUBLISH
X-PUBLISHED-TTL:P3D
REFRESH-INTERVAL:P3D
CALSCALE:GREGORIAN
BEGIN:VEVENT
DTSTART:20080619T220000Z
DTEND:20080620T000000Z
X-MICROSOFT-CDO-ALLDAYEVENT:FALSE
SUMMARY:June 2008 Business After Hours
DESCRIPTION:Enjoy an evening of networking at the newly remodeled Radisson.  Dine on delicious eggrolls\, potstickers\, shrimp quesadilla\, crab empanada and Jamaican beef empanada\, while learning more about the hotel amenities.    Bring plenty of business cards for networking and for a chance to win an overnight hotel stay.  To RSVP your attendance call (9847)498-5555 est. 203.
X-ALT-DESC;FMTTYPE=text/html:<div>Enjoy an evening of networking at the newly remodeled Radisson.&nbsp\; Dine on delicious eggrolls\, potstickers\, shrimp quesadilla\, crab empanada and Jamaican beef empanada\, while learning more about the hotel amenities.&nbsp\; &nbsp\; Bring plenty of business cards for networking and for a chance to win an overnight hotel stay.&nbsp\; To RSVP your attendance call (9847)498-5555 est. 203.</div>
LOCATION:Radisson Hotel Northbrook 2875 Milwaukee Avenue
UID:e.355.728
SEQUENCE:3
DTSTAMP:20260424T210321Z
URL:https://business.northbrookchamber.org/events/details/june-2008-business-after-hours-06-19-2008-728
END:VEVENT

END:VCALENDAR
