BEGIN:VCALENDAR
VERSION:2.0
PRODID:-//ChamberMaster//Event Calendar 2.0//EN
METHOD:PUBLISH
X-PUBLISHED-TTL:P3D
REFRESH-INTERVAL:P3D
CALSCALE:GREGORIAN
BEGIN:VEVENT
DTSTART:20091217T230000Z
DTEND:20091218T010000Z
X-MICROSOFT-CDO-ALLDAYEVENT:FALSE
SUMMARY:Holiday Business After Hours (12/09)
DESCRIPTION:Holiday Business After Hourshosted by Mission Hills Country Club Enjoy the spirit of the season at the Chamber's annual Holiday After Hours set at the beautiful Mission Hills Country Club. Enjoy a fabulous carving station\, an assortment of cold appetizers\, along with fresh desserts while checking out the many amenities at Mission Hills. Bring plenty of business cards for networking and raffle prizes.
X-ALT-DESC;FMTTYPE=text/html:<div><strong><span style="font-size: small">Holiday Business After Hours</span></strong></div><div><em><strong><span style="font-size: small">hosted by Mission Hills Country Club</span></strong></em></div><div>&nbsp\;</div><div><span style="font-size: small"><span lang="EN">Enjoy the spirit of the season at the Chamber&rsquo\;s annual Holiday After Hours set at the beautiful Mission Hills Country Club. Enjoy a fabulous carving station\, an assortment of cold appetizers\, along with fresh desserts while checking out the many amenities at Mission Hills. Bring plenty of business cards for networking and raffle prizes.</span></span></div>
LOCATION:Mission Hills Country Club1677 W. Mission Hills Rd.
UID:e.355.1251
SEQUENCE:3
DTSTAMP:20260422T142522Z
URL:https://business.northbrookchamber.org/events/details/holiday-business-after-hours-12-09-12-17-2009-1251
END:VEVENT

END:VCALENDAR
