BEGIN:VCALENDAR
VERSION:2.0
PRODID:-//ChamberMaster//Event Calendar 2.0//EN
METHOD:PUBLISH
X-PUBLISHED-TTL:P3D
REFRESH-INTERVAL:P3D
CALSCALE:GREGORIAN
BEGIN:VEVENT
DTSTART:20080710T233000Z
DTEND:20080711T010000Z
X-MICROSOFT-CDO-ALLDAYEVENT:FALSE
SUMMARY:Gourmet Dinner Club
DESCRIPTION:Gourmet Dinner Clubat Morton's the SteakhouseHosted by the Deerfield\, Bannockburn Riverwoods ChamberDiners will have an opportunity to enjoy good conversation while enjoying a specially prepared dinner including a choice of salad\; single cut filet\; choice of seafood to accompany the filet\, choice of potato or fresh vegetable and Key Lime pie desert. Each diner will have an opportunity to write a short restaurant review for publication in upcoming editions of the DBR newsletter and What's Happening newspaper.
X-ALT-DESC;FMTTYPE=text/html:<div>Gourmet Dinner Club</div><div>at Morton&rsquo\;s the Steakhouse</div><div>Hosted by the Deerfield\, Bannockburn Riverwoods Chamber</div><div><div style="margin: 0in 0in 0pt">Diners will have an opportunity to enjoy good conversation while enjoying a specially prepared dinner including a choice of salad\; single cut filet\; choice of seafood to accompany the filet\, choice of potato or fresh vegetable and Key Lime pie desert.&nbsp\;Each diner will have an opportunity to write a short restaurant review for publication in upcoming editions of the DBR newsletter and What&rsquo\;s Happening newspaper.&nbsp\;</div></div>
LOCATION:Morton's the Steakhouse699 Skokie Blvd.
UID:e.355.733
SEQUENCE:3
DTSTAMP:20260424T200015Z
URL:https://business.northbrookchamber.org/events/details/gourmet-dinner-club-07-10-2008-733
END:VEVENT

END:VCALENDAR
