BEGIN:VCALENDAR
VERSION:2.0
PRODID:-//ChamberMaster//Event Calendar 2.0//EN
METHOD:PUBLISH
X-PUBLISHED-TTL:P3D
REFRESH-INTERVAL:P3D
CALSCALE:GREGORIAN
BEGIN:VEVENT
DTSTART:20251008T173000Z
DTEND:20251009T003000Z
X-MICROSOFT-CDO-ALLDAYEVENT:FALSE
SUMMARY:Golf League Outing!
DESCRIPTION:Wednesday\, October 8th\n\nSteeple Chase Golf Course\n\n200 N. La Vista Drive\, Mundelein\, Illinois 60060 | 847-949-8900\n\n12:30 - 7:30 p.m.\n\n \n\nJoin us for this annual celebration of another great season of golf. The day's activities will include 18 holes of golf\, skills contests\, and dinner at the Austin's located at 481 Peterson Rd\, Libertyville\, IL 60048. (847) 549-1972.\n\n \n\nRegistration includes greens fees\, cart\, cash prizes for skills contests\, and a casual dinner and drinks. \n\nTee times will begin at 12:30 p.m.\n\n \n\nMembers of the Golf League and their subs are eligible to play and join us for dinner. Contests/Prizes include Longest Drive (Men & Women) $25\; Closest to the Pin $25\; Longest Putt $25. \n\n \n\nRegistration is $130 for League Members   all inclusive.    Space is limited.
X-ALT-DESC;FMTTYPE=text/html:<span style="color:windowtext\;"><span style="font-family:arial\,sans-serif\;"><span style="font-size:16.0pt\;">Wednesday\, October 8th</span></span></span><br />\n<strong><span style="color:#169A48\;"><span style="font-family:arial\,sans-serif\;"><span style="font-size:18.0pt\;">Steeple Chase Golf Course</span></span></span></strong><br />\n<span style="color:windowtext\;"><span style="font-family:arial\,sans-serif\;"><span style="font-size:11.0pt\;">200 N. La Vista Drive\, Mundelein\, Illinois 60060 | 847-949-8900</span></span></span><br />\n<strong><span style="color:windowtext\;"><span style="font-family:arial\,sans-serif\;"><span style="font-size:16.0pt\;">12:30 - 7:30 p.m.</span></span></span></strong><br />\n&nbsp\;<br />\n<span style="font-family:arial\,sans-serif\;">Join us for this annual celebration of another great season of golf. The day&rsquo\;s activities will include 18 holes of golf\, skills contests\, and dinner at the Austin&rsquo\;s located at 481 Peterson Rd\, Libertyville\, IL 60048. (847) 549-1972<strong>.</strong></span><br />\n&nbsp\;<br />\n<span style="font-family:arial\,sans-serif\;">Registration includes greens fees\, cart\, cash prizes for skills contests\, and a casual dinner and drinks. </span><br />\n<em><span style="font-family:arial\,sans-serif\;">Tee times will begin at 12:30 p.m.</span></em><br />\n&nbsp\;<br />\n<span style="font-family:arial\,sans-serif\;">Members of the Golf League and their subs are eligible to play and join us for dinner. </span><span style="color:windowtext\;"><span style="font-family:arial\,sans-serif\;">Contests/Prizes include Longest Drive (Men &amp\; Women) $25\; Closest to the Pin $25\; </span></span><span style="font-family:arial\,sans-serif\;">Longest Putt $25. </span><br />\n&nbsp\;<br />\n<span style="font-family:arial\,sans-serif\;">Registration is $130 for League Members &ndash\; all inclusive. </span>&nbsp\;&nbsp\;&nbsp\;<em><span style="font-size:11.0pt\;">Space is limited. </span></em>
LOCATION:Steeple Chase Golf Course 200 N. La Vista Drive\, Mundelein\, Illinois 60060 | 847-949-8900 followed by dinner/party Austin's 481 Peterson Rd\, Libertyville\, IL 60048
UID:e.355.4903
SEQUENCE:3
DTSTAMP:20260424T211029Z
URL:https://business.northbrookchamber.org/events/details/golf-league-outing-4903
END:VEVENT

END:VCALENDAR
