BEGIN:VCALENDAR
VERSION:2.0
PRODID:-//ChamberMaster//Event Calendar 2.0//EN
METHOD:PUBLISH
X-PUBLISHED-TTL:P3D
REFRESH-INTERVAL:P3D
CALSCALE:GREGORIAN
BEGIN:VEVENT
DTSTART:20061006T120000Z
DTEND:20061006T140000Z
X-MICROSOFT-CDO-ALLDAYEVENT:FALSE
SUMMARY:First Friday Networking: October 2006 First Friday
DESCRIPTION:Join with 80-100 other Chamber members and business colleagues to network and share leads.  Bring plenty of business cards to share.
X-ALT-DESC;FMTTYPE=text/html:Join with 80-100 other Chamber members and business colleagues to network and share leads.  Bring plenty of business cards to share.
LOCATION:
UID:e.355.211
SEQUENCE:3
DTSTAMP:20260425T210706Z
URL:https://business.northbrookchamber.org/events/details/first-friday-networking-october-2006-first-friday-10-06-2006-211
END:VEVENT

END:VCALENDAR
