BEGIN:VCALENDAR
VERSION:2.0
PRODID:-//ChamberMaster//Event Calendar 2.0//EN
METHOD:PUBLISH
X-PUBLISHED-TTL:P3D
REFRESH-INTERVAL:P3D
CALSCALE:GREGORIAN
BEGIN:VEVENT
DTSTART:20070504T120000Z
DTEND:20070504T140000Z
X-MICROSOFT-CDO-ALLDAYEVENT:FALSE
SUMMARY:First Friday Networking: May 2007 First Friday breakfast
DESCRIPTION:Join Chamber members and guests for proven\, successful networking opportunities at the First Friday networking breakfast.  The structured breakfast includes time for informal networking\, brief introductions\, and round table discussions that will give you solid business leads.  Enjoy bakery items  be provided by Leonard's Bakery\, 2776 Dundee Road.  $5 payable at the door
X-ALT-DESC;FMTTYPE=text/html:Join Chamber members and guests for proven\, successful networking opportunities at the First Friday networking breakfast.  The structured breakfast includes time for informal networking\, brief introductions\, and round table discussions that will give you solid business leads.  Enjoy bakery items  be provided by Leonard's Bakery\, 2776 Dundee Road.  $5 payable at the door
LOCATION:
UID:e.355.239
SEQUENCE:3
DTSTAMP:20260425T133911Z
URL:https://business.northbrookchamber.org/events/details/first-friday-networking-may-2007-first-friday-breakfast-05-04-2007-239
END:VEVENT

END:VCALENDAR
