BEGIN:VCALENDAR
VERSION:2.0
PRODID:-//ChamberMaster//Event Calendar 2.0//EN
METHOD:PUBLISH
X-PUBLISHED-TTL:P3D
REFRESH-INTERVAL:P3D
CALSCALE:GREGORIAN
BEGIN:VEVENT
DTSTART:20070105T130000Z
DTEND:20070105T150000Z
X-MICROSOFT-CDO-ALLDAYEVENT:FALSE
SUMMARY:First Friday Networking: January 2007 First Friday
DESCRIPTION:$5 payable at the door
X-ALT-DESC;FMTTYPE=text/html:$5 payable at the door
LOCATION:
UID:e.355.227
SEQUENCE:3
DTSTAMP:20260425T171309Z
URL:https://business.northbrookchamber.org/events/details/first-friday-networking-january-2007-first-friday-01-05-2007-227
END:VEVENT

END:VCALENDAR
