BEGIN:VCALENDAR
VERSION:2.0
PRODID:-//ChamberMaster//Event Calendar 2.0//EN
METHOD:PUBLISH
X-PUBLISHED-TTL:P3D
REFRESH-INTERVAL:P3D
CALSCALE:GREGORIAN
BEGIN:VEVENT
DTSTART:20061103T130000Z
DTEND:20061103T150000Z
X-MICROSOFT-CDO-ALLDAYEVENT:FALSE
SUMMARY:First Friday Networking: First Friday (Nov2006)
DESCRIPTION:Join Chamber members and their guests for this proven\, successful networking program.  The structured breakfast includes time for informal networking\, brief introductions and roundtable discussions that will give you solid business leads.  Average attendance is 90.  Guests must call the Chamber at (847)498-5555 for a reservation.  Members may register online.
X-ALT-DESC;FMTTYPE=text/html:Join Chamber members and their guests for this proven\, successful networking program.  The structured breakfast includes time for informal networking\, brief introductions and roundtable discussions that will give you solid business leads.  Average attendance is 90.  Guests must call the Chamber at (847)498-5555 for a reservation.  Members may register online.
LOCATION:
UID:e.355.220
SEQUENCE:3
DTSTAMP:20260425T195158Z
URL:https://business.northbrookchamber.org/events/details/first-friday-networking-first-friday-nov2006-11-03-2006-220
END:VEVENT

END:VCALENDAR
