BEGIN:VCALENDAR
VERSION:2.0
PRODID:-//ChamberMaster//Event Calendar 2.0//EN
METHOD:PUBLISH
X-PUBLISHED-TTL:P3D
REFRESH-INTERVAL:P3D
CALSCALE:GREGORIAN
BEGIN:VEVENT
DTSTART:20061201T130000Z
DTEND:20061201T150000Z
X-MICROSOFT-CDO-ALLDAYEVENT:FALSE
SUMMARY:First Friday Networking: First Friday (Dec2006)
DESCRIPTION:Join Chamber members and their guests for this proven\, successful networking program.  The structured breakfast includes time for informal networking\, brief introductions and roundtable discussions that will give you solid business leads.  Average attendance is 90.  Guests must call the Chamber at (847)498-5555 for a reservation.  Members may register online.
X-ALT-DESC;FMTTYPE=text/html:Join Chamber members and their guests for this proven\, successful networking program.  The structured breakfast includes time for informal networking\, brief introductions and roundtable discussions that will give you solid business leads.  Average attendance is 90.  Guests must call the Chamber at (847)498-5555 for a reservation.  Members may register online.
LOCATION:
UID:e.355.221
SEQUENCE:3
DTSTAMP:20260425T183114Z
URL:https://business.northbrookchamber.org/events/details/first-friday-networking-first-friday-dec2006-12-01-2006-221
END:VEVENT

END:VCALENDAR
