BEGIN:VCALENDAR
VERSION:2.0
PRODID:-//ChamberMaster//Event Calendar 2.0//EN
METHOD:PUBLISH
X-PUBLISHED-TTL:P3D
REFRESH-INTERVAL:P3D
CALSCALE:GREGORIAN
BEGIN:VEVENT
DTSTART:20071207T130000Z
DTEND:20071207T150000Z
X-MICROSOFT-CDO-ALLDAYEVENT:FALSE
SUMMARY:First Friday Networking: December 2007 First Friday Breakfast
DESCRIPTION:Join Chamber members and guests for proven\, successful networking opportunities at the First Friday networking breakfast.  The structured brakfast includes time for informal networking\, brief introductons and round table discussions that will give you solid business leads.  Guests are encouraged to register in advance.  Charge is $5 payable at the door.    Call (847)498-5555 ext. 203 to register your attendance.
X-ALT-DESC;FMTTYPE=text/html:Join Chamber members and guests for proven\, successful networking opportunities at the First Friday networking breakfast.  The structured brakfast includes time for informal networking\, brief introductons and round table discussions that will give you solid business leads.  Guests are encouraged to register in advance.  Charge is $5 payable at the door.    Call (847)498-5555 ext. 203 to register your attendance.
LOCATION:
UID:e.355.297
SEQUENCE:3
DTSTAMP:20260425T040332Z
URL:https://business.northbrookchamber.org/events/details/first-friday-networking-december-2007-first-friday-breakfast-12-07-2007-297
END:VEVENT

END:VCALENDAR
