BEGIN:VCALENDAR
VERSION:2.0
PRODID:-//ChamberMaster//Event Calendar 2.0//EN
METHOD:PUBLISH
X-PUBLISHED-TTL:P3D
REFRESH-INTERVAL:P3D
CALSCALE:GREGORIAN
BEGIN:VEVENT
DTSTART:20250711T120000Z
DTEND:20250711T140000Z
X-MICROSOFT-CDO-ALLDAYEVENT:FALSE
SUMMARY:"First" Friday Networking Breakfast with DBR Chamber
DESCRIPTION:PLEASE NOTE: Walk-ins will not be admitted. Sign up by noon Thursday to be on the Lead Sheet!\n\n\n\nCONNECT! Build your business connections with members of the Northbrook AND DBR Chambers at our  signature networking event. First Friday at Mission Hills Club brings together 100+ professionals for structured networking and productive conversations. (Due to the July 4 holiday\, we will meet on the second Friday of the month).\n\n\n\nOur emcee Dan Gelfond will lead the group through introductions\, breakout sessions\, and trivia contests with prizes. \n\n\n\nEVENT SCHEDULE:\n\n7:00 to 7:30 a.m. -- Registration and Breakfast\n\n7:30 to 8:30 a.m. -- Structured Networking with Introductions and Trivia\n\n8:30 to 9:00 a.m. -- Table Networking\n\n\n\nThank You to our Sponsors!
X-ALT-DESC;FMTTYPE=text/html:<span style="font-size:16px\;"><strong>PLEASE NOTE: Walk-ins will not be admitted.&nbsp\;</strong>Sign up by noon Thursday to be on the Lead Sheet!</span><br />\n<br />\nCONNECT! Build your business connections with members of the Northbrook AND DBR Chambers at our&nbsp\; signature networking event. First Friday at Mission Hills Club brings together 100+ professionals for structured networking and productive conversations. (Due to the July 4 holiday\, we will meet on the second Friday of the month).<br />\n<br />\nOur emcee Dan Gelfond will lead the group through introductions\, breakout sessions\, and trivia contests with prizes.&nbsp\;<br />\n<br />\nEVENT SCHEDULE:<br />\n7:00 to 7:30 a.m. -- Registration and Breakfast<br />\n7:30 to 8:30 a.m. -- Structured Networking with Introductions and Trivia<br />\n8:30 to 9:00 a.m. -- Table Networking<br />\n<br />\nThank You to our Sponsors!
LOCATION:Mission Hills Club 1677 W. Mission Hills Road\, Northbrook
UID:e.355.4741
SEQUENCE:3
DTSTAMP:20260420T080421Z
URL:https://business.northbrookchamber.org/events/details/first-friday-networking-breakfast-with-dbr-chamber-4741
END:VEVENT

END:VCALENDAR
