BEGIN:VCALENDAR
VERSION:2.0
PRODID:-//ChamberMaster//Event Calendar 2.0//EN
METHOD:PUBLISH
X-PUBLISHED-TTL:P3D
REFRESH-INTERVAL:P3D
CALSCALE:GREGORIAN
BEGIN:VEVENT
DTSTART:20090501T120000Z
DTEND:20090501T140000Z
X-MICROSOFT-CDO-ALLDAYEVENT:FALSE
SUMMARY:First Friday Networking Breakfast (5/1)
DESCRIPTION:Join Chamber members and guests for proven\, successful networking opportunities at the First Friday networking breakfast. The structured brakfast includes time for informal networking\, brief introductons and round table discussions that will give you solid business leads.  Charge is $5 payable at the door. In addition to catering by Leonard's Bakery\, First Friday now features Starbucks coffee.
X-ALT-DESC;FMTTYPE=text/html:<div>Join Chamber members and guests for proven\, successful networking opportunities at the First Friday networking breakfast. The structured brakfast includes time for informal networking\, brief introductons and round table discussions that will give you solid business leads.&nbsp\; Charge is $5 payable at the door. In addition to catering by Leonard&rsquo\;s Bakery\, First Friday now features Starbucks coffee.</div>
LOCATION:Chamber Office2002 Walters Avenue
UID:e.355.911
SEQUENCE:3
DTSTAMP:20260424T081321Z
URL:https://business.northbrookchamber.org/events/details/first-friday-networking-breakfast-5-1-05-01-2009-911
END:VEVENT

END:VCALENDAR
