BEGIN:VCALENDAR
VERSION:2.0
PRODID:-//ChamberMaster//Event Calendar 2.0//EN
METHOD:PUBLISH
X-PUBLISHED-TTL:P3D
REFRESH-INTERVAL:P3D
CALSCALE:GREGORIAN
BEGIN:VEVENT
DTSTART:20091204T130000Z
DTEND:20091204T150000Z
X-MICROSOFT-CDO-ALLDAYEVENT:FALSE
SUMMARY:First Friday Networking Breakfast
DESCRIPTION:First Friday Networking BreakfastJoin Chamber members and guests for proven\, successful networking opportunities at the First Friday networking breakfast. The structured brakfast includes time for informal networking\, brief introductons and round table discussions that will give you solid business leads.  Charge is $5 payable at the door. In addition to catering by Leonard's Bakery\, First Friday now features Starbucks coffee.  Save with an Annual Pass to First FridayFor 2010\, the cost of the Chamber's First Friday Networking Breakfast will increase to $7. You can save money and make registration a breeze at First Friday by purchasing an annual pass for the Networking Breakfast . The pass offers considerable savings for regular First Friday attendees and eliminates waiting in line or worrying about payment. The cost of the pass is $70 for a full year\, a $14 savings\, which translates into two free First Friday meetings. If the pass is bought in the name of the member company\, it can be used interchangeably by any employee. Gold and Platinum members receive the pass as a part of their upgraded benefits. To purchase your pass\, complete the attached form and return it to the Chamber via fax (847)498-5510.
X-ALT-DESC;FMTTYPE=text/html:<div><strong><span style="font-size: small">First Friday Networking Breakfast</span></strong></div><div><span style="font-size: small">Join Chamber members and guests for proven\, successful networking opportunities at the First Friday networking breakfast. The structured brakfast includes time for informal networking\, brief introductons and round table discussions that will give you solid business leads.&nbsp\; Charge is $5 payable at the door. In addition to catering by Leonard&rsquo\;s Bakery\, First Friday now features Starbucks coffee.</span></div><div>&nbsp\;</div><div>&nbsp\;</div><div><span style="font-size: small"><span lang="EN"><p align="justify"><strong>Save with an Annual Pass to First Friday</strong></p><p align="justify">For 2010\, the cost of the Chamber&rsquo\;s First Friday Networking Breakfast will increase to $7. You can save money and make registration a breeze at First Friday by purchasing an annual pass for the Networking Breakfast . The pass offers considerable savings for regular First Friday attendees and eliminates waiting in line or worrying about payment. The cost of the pass is $70 for a full year\, a $14 savings\, which translates into two free First Friday meetings. If the pass is bought in the name of the member company\, it can be used interchangeably by any employee. Gold and Platinum members receive the pass as a part of their upgraded benefits. To purchase your pass\, complete the&nbsp\;<a href="https://secure.chambermaster.com/FCKeditor/UserFiles/chambers/355/File/2010FFpassApp.pdf">attached form </a>and return it to the Chamber via fax (847)498-5510.</p></span></span></div>
LOCATION:Chamber Office2002 Walters Avenue
UID:e.355.918
SEQUENCE:3
DTSTAMP:20260422T123308Z
URL:https://business.northbrookchamber.org/events/details/first-friday-networking-breakfast-12-04-2009-918
END:VEVENT

END:VCALENDAR
