BEGIN:VCALENDAR
VERSION:2.0
PRODID:-//ChamberMaster//Event Calendar 2.0//EN
METHOD:PUBLISH
X-PUBLISHED-TTL:P3D
REFRESH-INTERVAL:P3D
CALSCALE:GREGORIAN
BEGIN:VEVENT
DTSTART:20090710T120000Z
DTEND:20090710T140000Z
X-MICROSOFT-CDO-ALLDAYEVENT:FALSE
SUMMARY:First Friday Networking Breakfast
DESCRIPTION:Hosted by Covenant Village\, 2625 Techny Rd.\n\nJoin Chamber members and guests for proven\, successful networking opportunities at the First Friday networking breakfast. The structured brakfast includes time for informal networking\, brief introductons and round table discussions that will give you solid business leads.  Charge is $5 payable at the door.
X-ALT-DESC;FMTTYPE=text/html:<div>Hosted by <strong>Covenant Village\, 2625 Techny Rd.<br /></strong><br />Join Chamber members and guests for proven\, successful networking opportunities at the First Friday networking breakfast. The structured brakfast includes time for informal networking\, brief introductons and round table discussions that will give you solid business leads.&nbsp\; Charge is $5 payable at the door.</div>
LOCATION:Covenant Village 2625 Techny Rd.
UID:e.355.913
SEQUENCE:3
DTSTAMP:20260422T192808Z
URL:https://business.northbrookchamber.org/events/details/first-friday-networking-breakfast-07-10-2009-913
END:VEVENT

END:VCALENDAR
