BEGIN:VCALENDAR
VERSION:2.0
PRODID:-//ChamberMaster//Event Calendar 2.0//EN
METHOD:PUBLISH
X-PUBLISHED-TTL:P3D
REFRESH-INTERVAL:P3D
CALSCALE:GREGORIAN
BEGIN:VEVENT
DTSTART:20060804T120000Z
DTEND:20060804T140000Z
X-MICROSOFT-CDO-ALLDAYEVENT:FALSE
SUMMARY:First Friday Networking: August 2006 First Friday networking breakfast
DESCRIPTION:Join Norhtbrook Chamber members and guests for proven\, successful networking opportunities at the annual joint networking breakfast.  The structured breakfast includes time for informal networking\, brief introductions\, and round table discussions that will give you solid business leads.  Enjoy bakery items provided by Leonard's Bakery\, 2776 Dundee Road
X-ALT-DESC;FMTTYPE=text/html:Join Norhtbrook Chamber members and guests for proven\, successful networking opportunities at the annual joint networking breakfast.  The structured breakfast includes time for informal networking\, brief introductions\, and round table discussions that will give you solid business leads.  Enjoy bakery items provided by Leonard's Bakery\, 2776 Dundee Road
LOCATION:
UID:e.355.195
SEQUENCE:3
DTSTAMP:20260425T232903Z
URL:https://business.northbrookchamber.org/events/details/first-friday-networking-august-2006-first-friday-networking-breakfast-08-04-2006-195
END:VEVENT

END:VCALENDAR
