BEGIN:VCALENDAR
VERSION:2.0
PRODID:-//ChamberMaster//Event Calendar 2.0//EN
METHOD:PUBLISH
X-PUBLISHED-TTL:P3D
REFRESH-INTERVAL:P3D
CALSCALE:GREGORIAN
BEGIN:VEVENT
DTSTART:20070406T120000Z
DTEND:20070406T140000Z
X-MICROSOFT-CDO-ALLDAYEVENT:FALSE
SUMMARY:First Friday Networking: April 2007 First Friday Networking breakfast
DESCRIPTION:Join Chamber members and guests for proven\, successful networking opportunities at the First Friday networking breakfast.  The structured breakfast includes time for informal networking\, brief introductions\, and round table discussions that will give you solid business leads.  Enjoy bakery items  be provided by Leonard's Bakery\, 2776 Dundee Road.  $5 payable at the door
X-ALT-DESC;FMTTYPE=text/html:Join Chamber members and guests for proven\, successful networking opportunities at the First Friday networking breakfast.  The structured breakfast includes time for informal networking\, brief introductions\, and round table discussions that will give you solid business leads.  Enjoy bakery items  be provided by Leonard's Bakery\, 2776 Dundee Road.  $5 payable at the door
LOCATION:
UID:e.355.235
SEQUENCE:3
DTSTAMP:20260425T133922Z
URL:https://business.northbrookchamber.org/events/details/first-friday-networking-april-2007-first-friday-networking-breakfast-04-06-2007-235
END:VEVENT

END:VCALENDAR
