BEGIN:VCALENDAR
VERSION:2.0
PRODID:-//ChamberMaster//Event Calendar 2.0//EN
METHOD:PUBLISH
X-PUBLISHED-TTL:P3D
REFRESH-INTERVAL:P3D
CALSCALE:GREGORIAN
BEGIN:VEVENT
DTSTART:20230911T143000Z
DTEND:20230911T154500Z
X-MICROSOFT-CDO-ALLDAYEVENT:FALSE
SUMMARY:Disability Awareness Event
DESCRIPTION:The Village of Northbrook Special Needs Inclusion Commission is partnering with the Chamber\, JJ's List\, and the Northbrook Public Library to offer a disability awareness training event for local business owners and employees. This free event features a highly interactive training led by the Disability Players\, a dynamic troupe that specializes in training businesses how to communicate comfortably and appropriately with customers\, co-workers or potential hires who have disabilities.\n\n\n\nThe event includes a complimentary breakfast (coffee\, bagels\, etc) and a meet & greet expo where local businesses can connect with local special needs organizations that offer employment programs in Northbrook and learn about the benefits of employing people with disabilities.
X-ALT-DESC;FMTTYPE=text/html:The Village of Northbrook Special Needs Inclusion Commission is partnering with the Chamber\, JJ&rsquo\;s List\, and the Northbrook Public Library to offer a disability awareness training event for local business owners and employees. This free event features a highly interactive training led by the Disability Players\, a dynamic troupe that specializes in training businesses how to communicate comfortably and appropriately with customers\, co-workers or potential hires who have disabilities.<br />\n<br />\nThe event includes a complimentary breakfast (coffee\, bagels\, etc) and a meet &amp\; greet expo where local businesses can connect with local special needs organizations that offer employment programs in Northbrook and learn about the benefits of employing people with disabilities.<br />\n&nbsp\;
LOCATION:Northbrook Public Library Auditorium 1201 Cedar Lane
UID:e.355.4362
SEQUENCE:3
DTSTAMP:20260424T231950Z
URL:https://business.northbrookchamber.org/events/details/disability-awareness-event-4362
END:VEVENT

END:VCALENDAR
