BEGIN:VCALENDAR
VERSION:2.0
PRODID:-//ChamberMaster//Event Calendar 2.0//EN
METHOD:PUBLISH
X-PUBLISHED-TTL:P3D
REFRESH-INTERVAL:P3D
CALSCALE:GREGORIAN
BEGIN:VEVENT
DTSTART:20090716T163000Z
DTEND:20090716T183000Z
X-MICROSOFT-CDO-ALLDAYEVENT:FALSE
SUMMARY:DBR Professional Women's Networking Luncheon
DESCRIPTION:Learn how to use Linkedin\, Facebook & Twitter to further your networking circle.  Get the basics of blogging and using Google to increase your company's visability and get your message out.  Join other professional women from the DBR and Northbrook Chambers for this informative and fun presention given by Beth Rosen
X-ALT-DESC;FMTTYPE=text/html:<div>Learn how to use Linkedin\, Facebook &amp\; Twitter to further your networking circle.&nbsp\; Get the basics of blogging and using Google to increase your company's visability and get your message out.&nbsp\; Join other professional women from the DBR and Northbrook Chambers for this informative and fun presention given by Beth Rosen</div>
LOCATION:Patty Turner Senior Center375 Elm St.\, Deerfield
UID:e.355.1229
SEQUENCE:3
DTSTAMP:20260422T193548Z
URL:https://business.northbrookchamber.org/events/details/dbr-professional-women-s-networking-luncheon-07-16-2009-1229
END:VEVENT

END:VCALENDAR
