BEGIN:VCALENDAR
VERSION:2.0
PRODID:-//ChamberMaster//Event Calendar 2.0//EN
METHOD:PUBLISH
X-PUBLISHED-TTL:P3D
REFRESH-INTERVAL:P3D
CALSCALE:GREGORIAN
BEGIN:VEVENT
DTSTART:20080725T123000Z
DTEND:20080725T140000Z
X-MICROSOFT-CDO-ALLDAYEVENT:FALSE
SUMMARY:DBR Networking Breakfast
DESCRIPTION:Networking Breakfasthosted by the Deerfield\, Bannockburn\, Riverwoods ChamberEnjoy a fabulous buffet breakfast while making contacts with over 70 business professionals. Bring plenty of business cards for networking and drawings.
X-ALT-DESC;FMTTYPE=text/html:<div>Networking Breakfast</div><div>hosted by the Deerfield\, Bannockburn\, Riverwoods Chamber</div><div><div style="margin: 0in 0in 0pt">Enjoy a fabulous buffet breakfast while making contacts with over 70 business professionals. Bring plenty of business cards for networking and drawings.</div></div>
LOCATION:GCG Financial3000 Lakeside Drive\, Bannockburn
UID:e.355.736
SEQUENCE:3
DTSTAMP:20260424T195632Z
URL:https://business.northbrookchamber.org/events/details/dbr-networking-breakfast-07-25-2008-736
END:VEVENT

END:VCALENDAR
