BEGIN:VCALENDAR
VERSION:2.0
PRODID:-//ChamberMaster//Event Calendar 2.0//EN
METHOD:PUBLISH
X-PUBLISHED-TTL:P3D
REFRESH-INTERVAL:P3D
CALSCALE:GREGORIAN
BEGIN:VEVENT
DTSTART:20090724T123000Z
DTEND:20090724T140000Z
X-MICROSOFT-CDO-ALLDAYEVENT:FALSE
SUMMARY:DBR Networking Breakfast
DESCRIPTION:Enjoy a fabulous buffet breakfast while making contacts with over 70 business professionals. Bring plenty of business cards for networking and raffle prize drawings.The Northbrook (NCCI) and Deerfield Bannockburn Riverwoods (DBR) Chambers are making their regularly scheduled programs open to members of both Chambers throughout the month of July. Select from over 10 events and programs\, including the Annual Business Expo and After Hours\, or a networking lunch or breakfast. Look over the enclosed Sign Up sheet and mark your calendar so you won't miss out. To prevent duplicate registrations\, please sign up with one Chamber only.
X-ALT-DESC;FMTTYPE=text/html:<div><span lang="EN"><p align="justify"><span style="font-size: small"><span style="font-family: Arial">Enjoy a fabulous buffet breakfast while making contacts with over 70 business professionals. Bring plenty of business cards for networking and raffle prize drawings.</span></span></p><span style="font-size: small"><span style="font-family: Arial"><span lang="EN"><p align="justify"><span style="font-size: x-small"><em>The Northbrook (NCCI) and Deerfield Bannockburn Riverwoods (DBR) Chambers are making their regularly scheduled programs open to members of both Chambers throughout the month of July. Select from over 10 events and programs\, including the Annual Business Expo and After Hours\, or a networking lunch or breakfast. Look over the enclosed Sign Up sheet and mark your calendar so you won&rsquo\;t miss out. To prevent duplicate registrations\, please sign up with one Chamber only.</em></span></p></span></span></span></span></div>
LOCATION:GCG Financial3000 Lakeside Dr.\, Bannockburn
UID:e.355.1225
SEQUENCE:3
DTSTAMP:20260422T193140Z
URL:https://business.northbrookchamber.org/events/details/dbr-networking-breakfast-07-24-2009-1225
END:VEVENT

END:VCALENDAR
