BEGIN:VCALENDAR
VERSION:2.0
PRODID:-//ChamberMaster//Event Calendar 2.0//EN
METHOD:PUBLISH
X-PUBLISHED-TTL:P3D
REFRESH-INTERVAL:P3D
CALSCALE:GREGORIAN
BEGIN:VEVENT
DTSTART:20230914T200000Z
DTEND:20230914T220000Z
X-MICROSOFT-CDO-ALLDAYEVENT:FALSE
SUMMARY:Chamber Open House
DESCRIPTION:In celebration of Chamber of Commerce Week\, stop by the NCCI office for a relaxed meet & greet! We'll have information about Chamber programs and initiatives\, tours of the historic Civic Building\, treats and surprises. Open to the public! \n\n\n\nChamber members are welcome to participate as sponsors or volunteers. Contact Kathi Quinn\, kathi@northbrookchamber.org to learn more.
X-ALT-DESC;FMTTYPE=text/html:In celebration of Chamber of Commerce Week\, stop by the NCCI office for a relaxed meet &amp\; greet! We&#39\;ll have information about Chamber programs and initiatives\, tours of the historic Civic Building\, treats and surprises. Open to the public!&nbsp\;<br />\n<br />\nChamber members are welcome to participate as sponsors or volunteers. Contact Kathi Quinn\, kathi@northbrookchamber.org to learn more.&nbsp\;
LOCATION:Northbrook Chamber Office 2002 Walters Ave.\, Northbrook
UID:e.355.4424
SEQUENCE:3
DTSTAMP:20260424T232206Z
URL:https://business.northbrookchamber.org/events/details/chamber-open-house-09-14-2023-4424
END:VEVENT

END:VCALENDAR
