BEGIN:VCALENDAR
VERSION:2.0
PRODID:-//ChamberMaster//Event Calendar 2.0//EN
METHOD:PUBLISH
X-PUBLISHED-TTL:P3D
REFRESH-INTERVAL:P3D
CALSCALE:GREGORIAN
BEGIN:VEVENT
DTSTART:20080728T220000Z
DTEND:20080729T000000Z
X-MICROSOFT-CDO-ALLDAYEVENT:FALSE
SUMMARY:Business to Business Expo & After Hours
DESCRIPTION:Network with more than 300 area business leaders\, guests and colleagues at the Chamber's Annual Business to Business Expo and After Hours networking extravaganza on Monday July 28th. See the newest products and services being offered by over 60 Northbrook and Deerfield Chamber exhibitors. In the convenience of one location\, Expo attendees can learn more about the latest computer technology\, talk with bankers and accountants about their financial needs\, and canvass a myriad of business vendors. The event will also feature delicious food and cocktails provided by the Wyndham\, and a Treasurer Hunt with $200 in cash prizes to help attendees navigate the Expo.        \nCombined with the monthly After Hours\, the Expo is the perfect opportunity for businesses of any size or type to showcase their service or products in a hands-on setting. Using display and marketing materials of their choosing\, exhibitors can explain the scope of their businesses. Exhibitors consistently report that the Expo generates solid business leads and helps them land new clients every year. Exhibitors are listed on the Chamber website and will be included in the ad in the Northbrook Star.\n\nMembers are encouraged to take advantage of this low cost opportunity to develop new clients and build productive relationships. The cost is $175 for each exhibit table (before July 7) $225 after July 7\, which includes a skirted table for displays\, promotional postcards to invite prospective clients and signage at the event. There are additional charges for Internet service and electricity. Click here a Exhibitor Registration Form or call Maggie at (847)498-5555 ext. 204.
X-ALT-DESC;FMTTYPE=text/html:<div align="left"><font size="2">Network with more than 300 area business leaders\, guests and colleagues at the Chamber&rsquo\;s Annual Business to Business Expo and After Hours networking extravaganza on Monday July 28<sup>th</sup>.&nbsp\;See the newest products and services being offered by over 60 Northbrook and Deerfield Chamber exhibitors.&nbsp\;In the convenience of one location\, Expo attendees can learn more about the latest computer technology\, talk with bankers and accountants about their financial needs\, and canvass a myriad of business vendors.&nbsp\;The event will also feature delicious food and cocktails provided by the Wyndham\, and a Treasurer Hunt with $200 in cash prizes to help attendees navigate the Expo.</font></div><div align="left"><font size="2">&nbsp\;&nbsp\;&nbsp\;&nbsp\;&nbsp\;&nbsp\;&nbsp\;&nbsp\;<br />Combined with the monthly After Hours\, the Expo is the perfect opportunity for businesses of any size or type to showcase their service or products in a hands-on setting.&nbsp\;Using display and marketing materials of their choosing\, exhibitors&nbsp\;can explain the scope of their businesses.&nbsp\;Exhibitors consistently report that the Expo generates solid business leads and helps them land new clients every year.&nbsp\;Exhibitors are listed on the Chamber website and will be included in the ad in the Northbrook Star.<br /></font><font size="2"><br />Members are encouraged to take advantage of this low cost opportunity to develop new clients and build productive relationships.&nbsp\;The cost is $175 for each exhibit table (before July 7) $225 after July 7\, which includes a skirted table for displays\, promotional postcards to invite prospective clients and signage at the event.&nbsp\;There are additional charges for Internet service and electricity. Click here a <a href="https://secure.chambermaster.com/FCKeditor/UserFiles/chambers/355/File/08ExpoRegistration.pdf">Exhibitor Registration Form</a>&nbsp\;or call Maggie at (847)498-5555 ext. 204.</font></div>
LOCATION:Wyndham Glenview Suites1400 Milwaukee Avenue
UID:e.355.730
SEQUENCE:3
DTSTAMP:20260424T200629Z
URL:https://business.northbrookchamber.org/events/details/business-to-business-expo-after-hours-07-28-2008-730
END:VEVENT

END:VCALENDAR
