BEGIN:VCALENDAR
VERSION:2.0
PRODID:-//ChamberMaster//Event Calendar 2.0//EN
METHOD:PUBLISH
X-PUBLISHED-TTL:P3D
REFRESH-INTERVAL:P3D
CALSCALE:GREGORIAN
BEGIN:VEVENT
DTSTART:20260218T190000Z
DTEND:20260218T230000Z
X-MICROSOFT-CDO-ALLDAYEVENT:FALSE
SUMMARY:Business Mentoring - SCORE & Chamber Pros
DESCRIPTION:Take the next step in strengthening your business - or starting a new one! Schedule a 60-minute one-on-one with SCORE mentor Steve Fisher to tackle your challenges and get insight in growing your business.\n\n\n\nYou can also meet with Chamber staff to unlock the full value of your membership.\n\n\n\nSpace is limited - register early to select your preferred time slot.
X-ALT-DESC;FMTTYPE=text/html:Take the next step in strengthening your business - or starting a new one! Schedule a 60-minute one-on-one with SCORE mentor Steve Fisher to tackle your challenges and get insight in growing your business.<br />\n<br />\nYou can also meet with Chamber staff to unlock the full value of your membership.<br />\n<br />\nSpace is limited - register early to select your preferred time slot.
LOCATION:Northbrook Chamber Office 2002 Walters Avenue
UID:e.355.4966
SEQUENCE:3
DTSTAMP:20260424T163609Z
URL:https://business.northbrookchamber.org/events/details/business-mentoring-score-chamber-pros-4966
END:VEVENT

END:VCALENDAR
