BEGIN:VCALENDAR
VERSION:2.0
PRODID:-//ChamberMaster//Event Calendar 2.0//EN
METHOD:PUBLISH
X-PUBLISHED-TTL:P3D
REFRESH-INTERVAL:P3D
CALSCALE:GREGORIAN
BEGIN:VEVENT
DTSTART:20090720T220000Z
DTEND:20090721T003000Z
X-MICROSOFT-CDO-ALLDAYEVENT:FALSE
SUMMARY:Business Expo and After Hours
DESCRIPTION:Network with more than 300 area business leaders\, guests and colleagues at the Chamber's Annual Business to Business Expo and After Hours networking extravaganza on Monday July 20th. See the newest products and services being offered by over 60 Northbrook and Deerfield Chamber exhibitors. In the convenience of one location\, Expo attendees can learn more about the latest computer technology\, talk with bankers and accountants about their financial needs\, and canvass a myriad of business vendors. The event will also feature delicious food and cocktails provided by the Wyndham.        \nCombined with the monthly After Hours\, the Expo is the perfect opportunity for businesses of any size or type to showcase their service or products in a hands-on setting. Using display and marketing materials of their choosing\, exhibitors can explain the scope of their businesses. Exhibitors consistently report that the Expo generates solid business leads and helps them land new clients every year. Exhibitors are listed on the Chamber website and will be included in the ad in the Northbrook Star.  To learn more about  how to become an exhibitor\, call the Chamber at (847)498-5555. Exhibitor Registration Form
X-ALT-DESC;FMTTYPE=text/html:<div align="left"><font size="2">Network with more than 300 area business leaders\, guests and colleagues at the Chamber&rsquo\;s Annual Business to Business Expo and After Hours networking extravaganza on Monday July 20<sup>th</sup>.&nbsp\;See the newest products and services being offered by over 60 Northbrook and Deerfield Chamber exhibitors.&nbsp\;In the convenience of one location\, Expo attendees can learn more about the latest computer technology\, talk with bankers and accountants about their financial needs\, and canvass a myriad of business vendors.&nbsp\;The event will also feature delicious food and cocktails provided by the Wyndham.</font><font size="2">&nbsp\;&nbsp\;&nbsp\;&nbsp\;</font></div><div align="left"><font size="2">&nbsp\;&nbsp\;&nbsp\;&nbsp\;<br /></font></div><div align="left"><font size="2">Combined with the monthly After Hours\, the Expo is the perfect opportunity for businesses of any size or type to showcase their service or products in a hands-on setting.&nbsp\;Using display and marketing materials of their choosing\, exhibitors&nbsp\;can explain the scope of their businesses.&nbsp\;Exhibitors consistently report that the Expo generates solid business leads and helps them land new clients every year.&nbsp\;Exhibitors are listed on the Chamber website and will be included in the ad in the Northbrook Star.&nbsp\; To learn more about&nbsp\; how to become an exhibitor\, call the Chamber at (847)498-5555.</font></div><div align="left">&nbsp\;</div><div align="left"><strong><span style="color: #ffffff"><span style="background-color: #339966"><font size="2"><a href="https://secure.chambermaster.com/FCKeditor/UserFiles/chambers/355/File/09ExpoRegistration.pdf"><span style="color: #ffffff">Exhibitor Registration Form</span></a></font></span></span><span style="color: #ffffff"><span style="background-color: #339966"><font size="2"><br /></font></span></span></strong><font size="2"><br /></font></div>
LOCATION:Wyndham Glenview Suites Hotel1400 Milwaukee AvenueGlenview
UID:e.355.1221
SEQUENCE:3
DTSTAMP:20260422T193736Z
URL:https://business.northbrookchamber.org/events/details/business-expo-and-after-hours-07-20-2009-1221
END:VEVENT

END:VCALENDAR
