BEGIN:VCALENDAR
VERSION:2.0
PRODID:-//ChamberMaster//Event Calendar 2.0//EN
METHOD:PUBLISH
X-PUBLISHED-TTL:P3D
REFRESH-INTERVAL:P3D
CALSCALE:GREGORIAN
BEGIN:VEVENT
DTSTART:20060921T220000Z
DTEND:20060922T000000Z
X-MICROSOFT-CDO-ALLDAYEVENT:FALSE
SUMMARY:Business After Hours: September 2006 Business After Hours
DESCRIPTION:See how the Whitehall of Deerfield has set the standard for combining luxury living with skilled nursing care\, while enjoying an evening of networking in one of their hospitality suites.  Bring plenty of business cards for networking.
X-ALT-DESC;FMTTYPE=text/html:See how the Whitehall of Deerfield has set the standard for combining luxury living with skilled nursing care\, while enjoying an evening of networking in one of their hospitality suites.  Bring plenty of business cards for networking.
LOCATION:
UID:e.355.215
SEQUENCE:3
DTSTAMP:20260425T222406Z
URL:https://business.northbrookchamber.org/events/details/business-after-hours-september-2006-business-after-hours-09-21-2006-215
END:VEVENT

END:VCALENDAR
