BEGIN:VCALENDAR
VERSION:2.0
PRODID:-//ChamberMaster//Event Calendar 2.0//EN
METHOD:PUBLISH
X-PUBLISHED-TTL:P3D
REFRESH-INTERVAL:P3D
CALSCALE:GREGORIAN
BEGIN:VEVENT
DTSTART:20250821T220000Z
DTEND:20250822T000000Z
X-MICROSOFT-CDO-ALLDAYEVENT:FALSE
SUMMARY:Business After Hours REGISTRATION FULL
DESCRIPTION:A delicious evening of networking! Join us for After Hours hosted by Northbrook favorite Morton's The Steakhouse. Enjoy building new connections with fellow members while we sample items from Morton's legendary menu. Space is limited so RSVP today! Members only.
X-ALT-DESC;FMTTYPE=text/html:A delicious evening of networking! Join us for After Hours hosted by Northbrook favorite Morton&#39\;s The Steakhouse. Enjoy building new connections with fellow members while we sample items from Morton&#39\;s legendary menu. Space is limited so RSVP today! Members only.
LOCATION:Morton's The Steakhouse 699 Skokie Blvd.\, Northbrook
UID:e.355.4724
SEQUENCE:3
DTSTAMP:20260422T083702Z
URL:https://business.northbrookchamber.org/events/details/business-after-hours-registration-full-4724
END:VEVENT

END:VCALENDAR
