BEGIN:VCALENDAR
VERSION:2.0
PRODID:-//ChamberMaster//Event Calendar 2.0//EN
METHOD:PUBLISH
X-PUBLISHED-TTL:P3D
REFRESH-INTERVAL:P3D
CALSCALE:GREGORIAN
BEGIN:VEVENT
DTSTART:20070517T213000Z
DTEND:20070517T233000Z
X-MICROSOFT-CDO-ALLDAYEVENT:FALSE
SUMMARY:Business After Hours: May 2007 Business After Hours
DESCRIPTION:DiPescara\, Lettuce Entertain  You's newest creation on the North Shore will host the May After Hours in three of its spacious private dining rooms.  Some of the restaurant's signature cocktails such as the Peach Bellinitini and the popular L:emoncello Mojito\, made with fresh mint will be served.  Chef Mychael Bonner will provide a tasting of many of his spring hors d'ouevres including Shrimp Buttons with avocado and Crispy armesan Flowers.  Complimentary Valet parking will be available.  No charge for Chamber members\; $20 for guests.   Guests must register in advance.
X-ALT-DESC;FMTTYPE=text/html:DiPescara\, Lettuce Entertain  You's newest creation on the North Shore will host the May After Hours in three of its spacious private dining rooms.  Some of the restaurant's signature cocktails such as the Peach Bellinitini and the popular L:emoncello Mojito\, made with fresh mint will be served.  Chef Mychael Bonner will provide a tasting of many of his spring hors d'ouevres including Shrimp Buttons with avocado and Crispy armesan Flowers.  Complimentary Valet parking will be available.  No charge for Chamber members\; $20 for guests.   Guests must register in advance.
LOCATION:
UID:e.355.253
SEQUENCE:3
DTSTAMP:20260425T122522Z
URL:https://business.northbrookchamber.org/events/details/business-after-hours-may-2007-business-after-hours-05-17-2007-253
END:VEVENT

END:VCALENDAR
