BEGIN:VCALENDAR
VERSION:2.0
PRODID:-//ChamberMaster//Event Calendar 2.0//EN
METHOD:PUBLISH
X-PUBLISHED-TTL:P3D
REFRESH-INTERVAL:P3D
CALSCALE:GREGORIAN
BEGIN:VEVENT
DTSTART:20080320T220000Z
DTEND:20080321T000000Z
X-MICROSOFT-CDO-ALLDAYEVENT:FALSE
SUMMARY:Business After Hours March 2008
DESCRIPTION:Enjoy an evening of networking at Cal-Sun's designer showroom featuring state of the art kitchens and baths. Bring plenty of cards for networking and raffle prizes.
X-ALT-DESC;FMTTYPE=text/html:<div><font size="3">Enjoy an evening of networking at Cal-Sun&rsquo\;s designer showroom featuring state of the art kitchens and baths. Bring plenty of cards for networking and raffle prizes.</font></div>
LOCATION:Cal-Sun Construction3100 Dundee Road\, Ste. 802Northbrook\, IL 60062
UID:e.355.666
SEQUENCE:3
DTSTAMP:20260425T003721Z
URL:https://business.northbrookchamber.org/events/details/business-after-hours-march-2008-03-20-2008-666
END:VEVENT

END:VCALENDAR
