BEGIN:VCALENDAR
VERSION:2.0
PRODID:-//ChamberMaster//Event Calendar 2.0//EN
METHOD:PUBLISH
X-PUBLISHED-TTL:P3D
REFRESH-INTERVAL:P3D
CALSCALE:GREGORIAN
BEGIN:VEVENT
DTSTART:20070315T220000Z
DTEND:20070316T000000Z
X-MICROSOFT-CDO-ALLDAYEVENT:FALSE
SUMMARY:Business After Hours: March 2007 Business After Hours
DESCRIPTION:Sales Results Inc.\n1121 Lake Cook Road Suite F\nDeerfield\nWith a technology driven training center and over 2000 square feet of new office space\, Sales Results has a lot to offer at its new headquarters.  Join owner Steve Fretzin and his staff for an evening of networking and demonstrations of office capabilities.    Network with colleagues and guests and check out the new facility firsthand.    Bring plenty of business cards for networking and raffle prizes.  To RSVP call the Chamber office at (9847)498-5555 ext. 203
X-ALT-DESC;FMTTYPE=text/html:Sales Results Inc.\n1121 Lake Cook Road Suite F\nDeerfield\nWith a technology driven training center and over 2000 square feet of new office space\, Sales Results has a lot to offer at its new headquarters.  Join owner Steve Fretzin and his staff for an evening of networking and demonstrations of office capabilities.    Network with colleagues and guests and check out the new facility firsthand.    Bring plenty of business cards for networking and raffle prizes.  To RSVP call the Chamber office at (9847)498-5555 ext. 203\n
LOCATION:
UID:e.355.240
SEQUENCE:3
DTSTAMP:20260425T150335Z
URL:https://business.northbrookchamber.org/events/details/business-after-hours-march-2007-business-after-hours-03-15-2007-240
END:VEVENT

END:VCALENDAR
