BEGIN:VCALENDAR
VERSION:2.0
PRODID:-//ChamberMaster//Event Calendar 2.0//EN
METHOD:PUBLISH
X-PUBLISHED-TTL:P3D
REFRESH-INTERVAL:P3D
CALSCALE:GREGORIAN
BEGIN:VEVENT
DTSTART:20070621T220000Z
DTEND:20070622T000000Z
X-MICROSOFT-CDO-ALLDAYEVENT:FALSE
SUMMARY:Business After Hours: June 2007 Business After Hours
DESCRIPTION:Northbrook's newest 45\,000 square foot entertainment center\, featuring 18 bowling lanes\, six indoor/outdoor bocce courts\, an Italian/American bistro and wine cellar and year-round outdoor patio and fireplace will be the hottest place to network with Chamber friends and colleagues.  Complimintary for members\; $20 for guests.  Guests are requested to register in advance.
X-ALT-DESC;FMTTYPE=text/html:Northbrook's newest 45\,000 square foot entertainment center\, featuring 18 bowling lanes\, six indoor/outdoor bocce courts\, an Italian/American bistro and wine cellar and year-round outdoor patio and fireplace will be the hottest place to network with Chamber friends and colleagues.  Complimintary for members\; $20 for guests.  Guests are requested to register in advance.
LOCATION:
UID:e.355.262
SEQUENCE:3
DTSTAMP:20260425T112058Z
URL:https://business.northbrookchamber.org/events/details/business-after-hours-june-2007-business-after-hours-06-21-2007-262
END:VEVENT

END:VCALENDAR
