BEGIN:VCALENDAR
VERSION:2.0
PRODID:-//ChamberMaster//Event Calendar 2.0//EN
METHOD:PUBLISH
X-PUBLISHED-TTL:P3D
REFRESH-INTERVAL:P3D
CALSCALE:GREGORIAN
BEGIN:VEVENT
DTSTART:20080117T230000Z
DTEND:20080118T010000Z
X-MICROSOFT-CDO-ALLDAYEVENT:FALSE
SUMMARY:Business After Hours: January 2008 Business After Hours
DESCRIPTION:Enjoy hospitality at Autohaus's  state-of-the-art facility\, one of the premier Mercedes-Benz dealerships recently voted "Best of the Best" in Chicago\, a top ranking of any dealer in the city.   Bring plenty of business cards for networking and raffle prizes.   No charge for members\; $20 guests\;  guests must register in advance.
X-ALT-DESC;FMTTYPE=text/html:Enjoy hospitality at Autohaus's  state-of-the-art facility\, one of the premier Mercedes-Benz dealerships recently voted "Best of the Best" in Chicago\, a top ranking of any dealer in the city.   Bring plenty of business cards for networking and raffle prizes.   No charge for members\; $20 guests\;  guests must register in advance.
LOCATION:
UID:e.355.299
SEQUENCE:3
DTSTAMP:20260425T025747Z
URL:https://business.northbrookchamber.org/events/details/business-after-hours-january-2008-business-after-hours-01-17-2008-299
END:VEVENT

END:VCALENDAR
