BEGIN:VCALENDAR
VERSION:2.0
PRODID:-//ChamberMaster//Event Calendar 2.0//EN
METHOD:PUBLISH
X-PUBLISHED-TTL:P3D
REFRESH-INTERVAL:P3D
CALSCALE:GREGORIAN
BEGIN:VEVENT
DTSTART:20070118T230000Z
DTEND:20070119T010000Z
X-MICROSOFT-CDO-ALLDAYEVENT:FALSE
SUMMARY:Business After Hours: January 2007 Business After Hours
DESCRIPTION:One of the most popular After Hours of 2006 is back!  Bonefish Grill\, conveniently located in downtown Northbrook\, will host members and their guests for an enjoyable evening of networking and samplings from their delectable meny.   Bring plenty of business cards for raffle prizes and networking.
X-ALT-DESC;FMTTYPE=text/html:One of the most popular After Hours of 2006 is back!  Bonefish Grill\, conveniently located in downtown Northbrook\, will host members and their guests for an enjoyable evening of networking and samplings from their delectable meny.   Bring plenty of business cards for raffle prizes and networking.
LOCATION:
UID:e.355.232
SEQUENCE:3
DTSTAMP:20260425T171426Z
URL:https://business.northbrookchamber.org/events/details/business-after-hours-january-2007-business-after-hours-01-18-2007-232
END:VEVENT

END:VCALENDAR
