BEGIN:VCALENDAR
VERSION:2.0
PRODID:-//ChamberMaster//Event Calendar 2.0//EN
METHOD:PUBLISH
X-PUBLISHED-TTL:P3D
REFRESH-INTERVAL:P3D
CALSCALE:GREGORIAN
BEGIN:VEVENT
DTSTART:20070215T230000Z
DTEND:20070216T010000Z
X-MICROSOFT-CDO-ALLDAYEVENT:FALSE
SUMMARY:Business After Hours: February Business After Hours
DESCRIPTION:With its state of the art pool\, fitness center\, gymnasium and climbing wall\, as well as its full service day care center\, the Bernard Weinger JCC has something for everyone.  Join fellow Chamber members and gusts to learn more about adult classes\, sports leagues\, fitness and personal training sessions and the many forms of memberships.  To RSVP call (8947)498-5555 ext. 203
X-ALT-DESC;FMTTYPE=text/html:With its state of the art pool\, fitness center\, gymnasium and climbing wall\, as well as its full service day care center\, the Bernard Weinger JCC has something for everyone.  Join fellow Chamber members and gusts to learn more about adult classes\, sports leagues\, fitness and personal training sessions and the many forms of memberships.  To RSVP call (8947)498-5555 ext. 203
LOCATION:
UID:e.355.238
SEQUENCE:3
DTSTAMP:20260425T161020Z
URL:https://business.northbrookchamber.org/events/details/business-after-hours-february-business-after-hours-02-15-2007-238
END:VEVENT

END:VCALENDAR
