BEGIN:VCALENDAR
VERSION:2.0
PRODID:-//ChamberMaster//Event Calendar 2.0//EN
METHOD:PUBLISH
X-PUBLISHED-TTL:P3D
REFRESH-INTERVAL:P3D
CALSCALE:GREGORIAN
BEGIN:VEVENT
DTSTART:20080221T230000Z
DTEND:20080222T010000Z
X-MICROSOFT-CDO-ALLDAYEVENT:FALSE
SUMMARY:Business After Hours: February 2008 Business After Hours
DESCRIPTION:Learn more about one of the north shore's premiere skilled nursing facilities which provices a wide range of services\, amenities and activities.  Bring plenty of business cards for networking.  No charge for members\; $20 for guests/ non-members.  Guests are encouraged to register in advance.  To register your attendance or for more information call (847)498-5555 ext. 203.
X-ALT-DESC;FMTTYPE=text/html:Learn more about one of the north shore's premiere skilled nursing facilities which provices a wide range of services\, amenities and activities.  Bring plenty of business cards for networking.  No charge for members\; $20 for guests/ non-members.  Guests are encouraged to register in advance.  To register your attendance or for more information call (847)498-5555 ext. 203.
LOCATION:
UID:e.355.308
SEQUENCE:3
DTSTAMP:20260425T013759Z
URL:https://business.northbrookchamber.org/events/details/business-after-hours-february-2008-business-after-hours-02-21-2008-308
END:VEVENT

END:VCALENDAR
