BEGIN:VCALENDAR
VERSION:2.0
PRODID:-//ChamberMaster//Event Calendar 2.0//EN
METHOD:PUBLISH
X-PUBLISHED-TTL:P3D
REFRESH-INTERVAL:P3D
CALSCALE:GREGORIAN
BEGIN:VEVENT
DTSTART:20071211T230000Z
DTEND:20071212T010000Z
X-MICROSOFT-CDO-ALLDAYEVENT:FALSE
SUMMARY:Business After Hours: December 2007 Holiday After Hours
DESCRIPTION:Celebrate the holidays amidst Chamber members\, business leaders\, guests and friends at  the Chamber's annual holiday extravaganza\, held this year at the beautiful Mission Hills Country Club.    Bring plenty of business cards for raffle prizes\, networking and to spread holiday cheer.  No charge for members\; $20 guests payable at  the door.  Guests are encouraged to register in advance.
X-ALT-DESC;FMTTYPE=text/html:Celebrate the holidays amidst Chamber members\, business leaders\, guests and friends at  the Chamber's annual holiday extravaganza\, held this year at the beautiful Mission Hills Country Club.    Bring plenty of business cards for raffle prizes\, networking and to spread holiday cheer.  No charge for members\; $20 guests payable at  the door.  Guests are encouraged to register in advance.
LOCATION:
UID:e.355.298
SEQUENCE:3
DTSTAMP:20260425T040357Z
URL:https://business.northbrookchamber.org/events/details/business-after-hours-december-2007-holiday-after-hours-12-11-2007-298
END:VEVENT

END:VCALENDAR
