BEGIN:VCALENDAR
VERSION:2.0
PRODID:-//ChamberMaster//Event Calendar 2.0//EN
METHOD:PUBLISH
X-PUBLISHED-TTL:P3D
REFRESH-INTERVAL:P3D
CALSCALE:GREGORIAN
BEGIN:VEVENT
DTSTART:20061221T230000Z
DTEND:20061222T010000Z
X-MICROSOFT-CDO-ALLDAYEVENT:FALSE
SUMMARY:Business After Hours: December 2006 Holiday After Hours
DESCRIPTION:Celebrate the holidays amidst Chamber members\, business leaders\, guests and friends at the north shore's newest premier hotel.  Featuring the north shore's largest grand ballroom\, the Westin will show off its user-friendly meeting space as well as a selection of upscale dining establishments operated by famed Chicago restaurateurs Rick Tramonto and Gale Gand.  Guests will be treated to fabulous appetizers\, cocktails\, entertainment and a holiday raffle.  Bring plenty of business cards for raffle prizes\, networking and to spread holiday cheer.
X-ALT-DESC;FMTTYPE=text/html:Celebrate the holidays amidst Chamber members\, business leaders\, guests and friends at the north shore's newest premier hotel.  Featuring the north shore's largest grand ballroom\, the Westin will show off its user-friendly meeting space as well as a selection of upscale dining establishments operated by famed Chicago restaurateurs Rick Tramonto and Gale Gand.  Guests will be treated to fabulous appetizers\, cocktails\, entertainment and a holiday raffle.  Bring plenty of business cards for raffle prizes\, networking and to spread holiday cheer.
LOCATION:
UID:e.355.230
SEQUENCE:3
DTSTAMP:20260425T184346Z
URL:https://business.northbrookchamber.org/events/details/business-after-hours-december-2006-holiday-after-hours-12-21-2006-230
END:VEVENT

END:VCALENDAR
