BEGIN:VCALENDAR
VERSION:2.0
PRODID:-//ChamberMaster//Event Calendar 2.0//EN
METHOD:PUBLISH
X-PUBLISHED-TTL:P3D
REFRESH-INTERVAL:P3D
CALSCALE:GREGORIAN
BEGIN:VEVENT
DTSTART:20061116T230000Z
DTEND:20061117T010000Z
X-MICROSOFT-CDO-ALLDAYEVENT:FALSE
SUMMARY:Business After Hours: Business After Hours (Nov.16/2006)
DESCRIPTION:Enjoy light hors d'oeuvres and cocktails\, provided by our host\, and mingling with area business leaders.  Bring plenty of business cards to exchange at this informal networking event.  Guests must call for a reservation.  Members may register online.
X-ALT-DESC;FMTTYPE=text/html:Enjoy light hors d'oeuvres and cocktails\, provided by our host\, and mingling with area business leaders.  Bring plenty of business cards to exchange at this informal networking event.  Guests must call for a reservation.  Members may register online.
LOCATION:
UID:e.355.224
SEQUENCE:3
DTSTAMP:20260425T195336Z
URL:https://business.northbrookchamber.org/events/details/business-after-hours-business-after-hours-nov-16-2006-11-16-2006-224
END:VEVENT

END:VCALENDAR
